BEGIN:VCALENDAR
VERSION:2.0
PRODID:-//Vilniaus kunigaikščio Gedimino progimnazija - ECPv6.10.0//NONSGML v1.0//EN
CALSCALE:GREGORIAN
METHOD:PUBLISH
X-WR-CALNAME:Vilniaus kunigaikščio Gedimino progimnazija
X-ORIGINAL-URL:https://vkgp.lt
X-WR-CALDESC:Events for Vilniaus kunigaikščio Gedimino progimnazija
REFRESH-INTERVAL;VALUE=DURATION:PT1H
X-Robots-Tag:noindex
X-PUBLISHED-TTL:PT1H
BEGIN:VTIMEZONE
TZID:Europe/Vilnius
BEGIN:DAYLIGHT
TZOFFSETFROM:+0200
TZOFFSETTO:+0300
TZNAME:EEST
DTSTART:20250330T010000
END:DAYLIGHT
BEGIN:STANDARD
TZOFFSETFROM:+0300
TZOFFSETTO:+0200
TZNAME:EET
DTSTART:20251026T010000
END:STANDARD
END:VTIMEZONE
BEGIN:VEVENT
DTSTART;VALUE=DATE:20250604
DTEND;VALUE=DATE:20250605
DTSTAMP:20260425T032137
CREATED:20250327T065956Z
LAST-MODIFIED:20250327T070641Z
UID:10000008-1748995200-1749081599@vkgp.lt
SUMMARY:Respublikinis technologijų ir literatūros konkursas – paroda „Mažasis interjeras – 2025“
DESCRIPTION:
URL:https://vkgp.lt/renginys/respublikinis-technologiju-ir-literaturos-konkursas-paroda-mazasis-interjeras-2025/
LOCATION:VKGP\, Lukiškių skg. 5\, Vilnius\, LT\, LT-01108\, Lithuania
CATEGORIES:Renginiai
END:VEVENT
BEGIN:VEVENT
DTSTART;TZID=Europe/Vilnius:20250520T113000
DTEND;TZID=Europe/Vilnius:20250520T153000
DTSTAMP:20260425T032137
CREATED:20250327T065211Z
LAST-MODIFIED:20250327T065325Z
UID:10000007-1747740600-1747755000@vkgp.lt
SUMMARY:Respublikinė 5-8 klasių mokinių literatūros ir technologijų konferencija \,\,Naujas gyvenimas seniems daiktams: mokinių išradingumas tvarumo kelyje“
DESCRIPTION:
URL:https://vkgp.lt/renginys/respublikine-5-8-klasiu-mokiniu-literaturos-ir-technologiju-konferencija-naujas-gyvenimas-seniems-daiktams-mokiniu-isradingumas-tvarumo-kelyje/
LOCATION:VKGP\, Lukiškių skg. 5\, Vilnius\, LT\, LT-01108\, Lithuania
CATEGORIES:Renginiai
END:VEVENT
END:VCALENDAR